BEGIN:VCALENDAR
VERSION:2.0
PRODID:-//Svenska Amazonklubben - ECPv6.15.20//NONSGML v1.0//EN
CALSCALE:GREGORIAN
METHOD:PUBLISH
X-ORIGINAL-URL:https://amazonklubben.nu
X-WR-CALDESC:Events for Svenska Amazonklubben
REFRESH-INTERVAL;VALUE=DURATION:PT1H
X-Robots-Tag:noindex
X-PUBLISHED-TTL:PT1H
BEGIN:VTIMEZONE
TZID:UTC
BEGIN:STANDARD
TZOFFSETFROM:+0000
TZOFFSETTO:+0000
TZNAME:UTC
DTSTART:20250101T000000
END:STANDARD
END:VTIMEZONE
BEGIN:VEVENT
DTSTART;TZID=UTC:20260509T070000
DTEND;TZID=UTC:20260509T170000
DTSTAMP:20260424T132936
CREATED:20260423T072637Z
LAST-MODIFIED:20260423T073520Z
UID:10000159-1778310000-1778346000@amazonklubben.nu
SUMMARY:Arosmarknaden
DESCRIPTION:Svenska Volvo Amazonklubben finns på plats bland övriga Volvobilar på Arosmarknaden 9 maj i Västerås. \nVi finns reprensenterade på yta som är bokad av Volvoträff i Västmanland. Passa på att parkera din Amazon bland andra Volvveteraner. \nKontaktperson\, Mats Berge.
URL:https://amazonklubben.nu/event/arosmarknaden/
LOCATION:Arosmarknaden
ATTACH;FMTTYPE=image/jpeg:https://amazonklubben.nu/wp-content/uploads/2026/04/marknad.jpg
END:VEVENT
END:VCALENDAR