BEGIN:VCALENDAR
VERSION:2.0
PRODID:-//Svenska Amazonklubben - ECPv6.15.20//NONSGML v1.0//EN
CALSCALE:GREGORIAN
METHOD:PUBLISH
X-ORIGINAL-URL:https://amazonklubben.nu
X-WR-CALDESC:Events for Svenska Amazonklubben
REFRESH-INTERVAL;VALUE=DURATION:PT1H
X-Robots-Tag:noindex
X-PUBLISHED-TTL:PT1H
BEGIN:VTIMEZONE
TZID:UTC
BEGIN:STANDARD
TZOFFSETFROM:+0000
TZOFFSETTO:+0000
TZNAME:UTC
DTSTART:20250101T000000
END:STANDARD
END:VTIMEZONE
BEGIN:VEVENT
DTSTART;TZID=UTC:20260611T160000
DTEND;TZID=UTC:20260611T210000
DTSTAMP:20260422T144023
CREATED:20260130T195407Z
LAST-MODIFIED:20260130T201557Z
UID:10000120-1781193600-1781211600@amazonklubben.nu
SUMMARY:Månadsträffar Billesholm
DESCRIPTION:Månadsträffar BillesholmHär kommer datumen för våra träffar vid Söderåsens Wärdshus 2026: \nVi kör som vanligt andra torsdagen i månaden förutom maj mån då det är helgdag. Så det blir enl följande: \n\n7/5 med tema FORD\n11/6 med tema OPEL\n9/7 med tema SAAB\n13/8 med tema VOLVO\n10/9 med tema VW\n\nServering finns med korv\, hamburgare\, karré med potatissallad\, kaffe m bröd\, glass och läsk. Vi öppnar kl. 16.00 och det är fri entré. Alla med eller utan fordon är hjärtligt välkomna! \nVid ev frågor ring 073-2073515 \nBillesholmsrallyt kör vi den 1/8 2026.\nHälsningar\,  Eddy och Inga 
URL:https://amazonklubben.nu/event/manadstraffar-billesholm-2/2026-06-11/
CATEGORIES:Lokal bilträff
ATTACH;FMTTYPE=image/jpeg:https://amazonklubben.nu/wp-content/uploads/2026/01/f053d1d437-Flygbild-Folkets-Park-foto-till-hemsidan-750x410-620x330-1.jpg
END:VEVENT
BEGIN:VEVENT
DTSTART;TZID=UTC:20260611T190000
DTEND;TZID=UTC:20260614T170000
DTSTAMP:20260422T144023
CREATED:20260225T174608Z
LAST-MODIFIED:20260324T075103Z
UID:10000156-1781204400-1781456400@amazonklubben.nu
SUMMARY:Sommarträffen i Eskilstuna
DESCRIPTION:Torsdag 11 juni.\nVi anländer till Vilsta camping och stugby i Eskilstuna. Efter att vi installerat oss på campingen samlas vi kl.19.00 i restaurangen för samkväm och information om programmet för helgen.\n\n                            \n                            \nFredag 12 juni.\nKl 10.00 samlas vi på campingen och åker gemensamt till Munktellmuseet och Rademachersmedjorna\, en av landets bäst bevarade 1600-talsmiljöer! \nEntrén till Munktellmuseet kostar 115 kr inkl kaffe och smörgås. Rademachersmedjorna har fri entre. Dessa attraktioner ligger på gåavstånd på varsin sida om Eskilstunaån. \nNär vi kommer tillbaka till campingen har vi bakluckeloppis och regaliaförsäljning. Ta med vad du har det behöver inte vara bilrelaterat. \nKl.19.00 samlas vi för samkväm i restaurangen. \nLördag 13 juni.\nKl 10.00 startar vi ett rally från campingen med 4 kontroller utmed rundan. \nEn av kontrollerna kommer att vara hos SVIS reservdelslager. När vi kommer tillbaka till campingen ställer vi upp bilarna. Vi korar vi bland annat de finaste bilarna\, tidsenlig klädsel. Prisutdelning på plats. \nKl.19.00 samlas vi i restaurangen för lite mat och samkväm. \nMiddagen subventioneras delvis av klubben. Middagen betalas i förskott med 100 kr per person\, information skickas till anmäld deltagare. \nSöndag 14 juni.\nFör de som har tid och intresse så avslutar vi med gemensam avfärd till Bil och teknikmuseet i Köping. \nSamling för gemensam avfärd är kl 10.00 och efter museibesöket är det direkt hemfärd. \nOm man har lång resväg eller inte intresse av museet så avslutas träffen med avfärd hem på söndag morgon. \nBoende:\nHotell inkl.frukost\, sänglinne\, städning.\n4-bäddsrum 1500 kr/natt\n3-bäddsrum 1200 kr/natt\nDubbelrum 900 kr/natt\nEnkelrum 750 kr/natt \nCampingplats med el 445 kr/natt \nSjälvhushållsstuga:\nDe Lux 6 bäddstuga 1395 kr/natt\nStandard 6 bäddstuga 1195 kr/natt \nParhus lägh. 4 bädd 1295 kr/natt\n4 bäddstuga 995 kr/natt\nFrukost 135 kr/pers\nHyra sänglinne 150 kr/pers\nSlutstädning 500-700 kr/stuga \nBoende bokas direkt på anläggningen av er själva. Glöm ej att uppge Amazonklubben när ni bokar. \nKontaktperson Lotta Larsson\, Tel. 0769-43 39 55 lotta@vilstasporthotell.se \nAnmälan görs till: \nBertil Lööf tel. 0708-17 03 55 eller styrelsens träffansvarige\, Mats Berge tel. 070-563 73 12\, mats.berge@hotmail.se \nMedlemsavgiften för 2026 måste vara betald senast 14 dagar innan sommarträffen. \n\n                            \n                        \nKarta:
URL:https://amazonklubben.nu/event/sommartraffen-i-eskilstuna/
CATEGORIES:Amazonträff,Klubbträff
ATTACH;FMTTYPE=image/png:https://amazonklubben.nu/wp-content/uploads/2026/02/sommartraffa.png
END:VEVENT
BEGIN:VEVENT
DTSTART;TZID=UTC:20260621T130000
DTEND;TZID=UTC:20260621T170000
DTSTAMP:20260422T144023
CREATED:20250112T105809Z
LAST-MODIFIED:20260116T191804Z
UID:10000006-1782046800-1782061200@amazonklubben.nu
SUMMARY:Volvoträff i Arlöv
DESCRIPTION:Svenska Volvo Amazonklubben bjuder in till Volvoträff i Arlöv. \nSöndagen den 21 juni klockan 13:00-17:00 \nBolagsgatan 10 i Arlöv. Bakom Arlövs Teater (kör in vid macken). Ta gärna med kaffekorgen om ni önskar. \nVälkommen!\nRune Skott\n0736-90 63 98 \nKarta:
URL:https://amazonklubben.nu/event/volvotraff-i-arlov/
CATEGORIES:Amazonträff,Lokal bilträff
ATTACH;FMTTYPE=image/png:https://amazonklubben.nu/wp-content/uploads/2025/04/arlov.png
END:VEVENT
BEGIN:VEVENT
DTSTART;VALUE=DATE:20260627
DTEND;VALUE=DATE:20260628
DTSTAMP:20260422T144023
CREATED:20260116T194112Z
LAST-MODIFIED:20260116T194127Z
UID:10000023-1782518400-1782604799@amazonklubben.nu
SUMMARY:Veteranfordonsdag
DESCRIPTION:Veteranfordonsdag lördag 27/6 2026 kl. 10–16 på  Huddunge hembygdsgård \nMer info & program kommer… \nFör mer information kontakta Gun Ekman 073–9277116 \nKarta:
URL:https://amazonklubben.nu/event/veteranfordonsdag-2/
CATEGORIES:Lokal bilträff
ATTACH;FMTTYPE=image/png:https://amazonklubben.nu/wp-content/uploads/2026/01/huddunge.png
END:VEVENT
BEGIN:VEVENT
DTSTART;TZID=UTC:20260630T183000
DTEND;TZID=UTC:20260630T210000
DTSTAMP:20260422T144023
CREATED:20260130T145214Z
LAST-MODIFIED:20260130T202302Z
UID:10000078-1782844200-1782853200@amazonklubben.nu
SUMMARY:Månadsträff i Malmö under 2026
DESCRIPTION:Svenska Volvo 140-klubben\, Svenska Volvo Amazonklubben och Svenska Volvo PV-klubben inbjuder till tisdagsträffar i Malmö.\nMånadsträffar\, MalmöVi träffas sista tisdagen i varje månad från april till och med september.\nDrottningtorget gäller följande datum: 28/4\, 26/5\, 30/6\, 28/7\, 25/8 och slutligen 29/9. \nSamling: 18.30.\nProgram:\nEn specialare gäller tisdagen den 25/5! Vi grillar korv i Torup! Samling på Drottningtorget\, sen kör vi gemensamt till Torup. Hinner du inte till Drottningtorget\, kom direkt till Torup. Medtag korv och bröd för grillning. \nTisdagen den 30 juni träffas vi klockan 18:30 på Reservdelshuset i Hörby\, adress Filaregatan 16 i Hörby. De som vill köra gemensamt dit söderifrån samlas vi på Lund Södra Trafikplats parkeringsplats klockan 17:45 för gemensam avfärd klockan 18:00. De erbjuder oss fina rabatter\, bjuder på korv med bröd och att de kan fixa fram det mesta till gammelbilen. Observera\, ingen samling på Drottningtorget denna tisdag. \nFrågor ring Claes Strand 0737 -707 583\nSom avslutning på säsongen 2024:Vi samlas på Drottningtorget som vanligt den 29/9\, men sedan kör vi gemensamt till en klubbmedlems garage för att grilla korv. Medtag korv och bröd för grillning. Grillar och dryck är på plats! \nFint väder kan man alltid önska sig som en liten bonus. \nVill ni sedan göra någon mer aktivitet under de resterande gångerna är vi öppna för idéer.\nTag nu tillfället i akt i år att komma hit och lära känna medlemmarna i din egen hemtrakt.\nPå Drottningtorget träffas vi och umgås under enkla former\, och pratar bort ett par timmar\, tills mörkret faller över staden. Vi brukar ha väldigt trevligt under kvällen och även under förra året hade vi många besökare.\nVi som arrangerar detta ser gärna att just du som aldrig tidigare varit på dessa månadsträffar kommer hit just i år. Det är viktigare att du kommer än din bil. \nPå Facebooksidan Volvo Veteranerna Skåne annonserar vi om vi gör något speciellt under träffarna som avviker från denna inbjudan. \nHälsningar: Ola Olsson Modig Tel: 046-25 25 43\, kassor@140-klubben.org\nRune Skott: 0736-906 398 Rune.skott@hotmail.com\nPeter Brobeck Tel 0723-764800\, peter@brobeckvindata.se
URL:https://amazonklubben.nu/event/manadstraff-i-malmo-under-2026-3/
CATEGORIES:Lokal bilträff
ATTACH;FMTTYPE=image/png:https://amazonklubben.nu/wp-content/uploads/2026/01/malmo.png
END:VEVENT
END:VCALENDAR