BEGIN:VCALENDAR
VERSION:2.0
PRODID:-//Svenska Amazonklubben - ECPv6.15.20//NONSGML v1.0//EN
CALSCALE:GREGORIAN
METHOD:PUBLISH
X-WR-CALNAME:Svenska Amazonklubben
X-ORIGINAL-URL:https://amazonklubben.nu
X-WR-CALDESC:Events for Svenska Amazonklubben
REFRESH-INTERVAL;VALUE=DURATION:PT1H
X-Robots-Tag:noindex
X-PUBLISHED-TTL:PT1H
BEGIN:VTIMEZONE
TZID:UTC
BEGIN:STANDARD
TZOFFSETFROM:+0000
TZOFFSETTO:+0000
TZNAME:UTC
DTSTART:20250101T000000
END:STANDARD
END:VTIMEZONE
BEGIN:VEVENT
DTSTART;VALUE=DATE:20260501
DTEND;VALUE=DATE:20260502
DTSTAMP:20260422T125741
CREATED:20260112T114140Z
LAST-MODIFIED:20260128T143529Z
UID:10000001-1777593600-1777679999@amazonklubben.nu
SUMMARY:1 maj tur med start i Staffanstorp
DESCRIPTION:Vi är ett antal personer som brukar köra en 1 majrunda med våra gamla bilar.\nDe andra åren har vi mest bjudit in via Facebook men nu tar vi det till klubbtidningarna också. \n\n                            \n                            Vi samlas på Willys parkeringsplats Barkvägen 32 i Staffanstorp.\nTid: 1 maj klockan 10:00.\nTa med P-skiva till parkeringen på Willys.\nVi kör gemensamt i en karavan och avslutar rundan med att vi tänder en grill där var och en grillar det man tar med sig själv.\nRäkna med att rundan blir 5 till 6 mil ungefär och vi brukar vara färdiga vid 14-tiden.\nVälkomna!\nOla Olsson Modig. Mail: olaolssonmodig@gmail.com \n\n                            \n                        \nKarta:
URL:https://amazonklubben.nu/event/1-maj-tur-med-start-i-staffanstorp/
CATEGORIES:Lokal bilträff
END:VEVENT
BEGIN:VEVENT
DTSTART;TZID=UTC:20260507T160000
DTEND;TZID=UTC:20260507T210000
DTSTAMP:20260422T125741
CREATED:20260130T195444Z
LAST-MODIFIED:20260130T202745Z
UID:10000119-1778169600-1778187600@amazonklubben.nu
SUMMARY:Månadsträffar Billesholm
DESCRIPTION:Månadsträffar BillesholmHär kommer datumen för våra träffar vid Söderåsens Wärdshus 2026: \nVi kör som vanligt andra torsdagen i månaden förutom maj mån då det är helgdag. Så det blir enl följande: \n\n7/5 med tema FORD\n11/6 med tema OPEL\n9/7 med tema SAAB\n13/8 med tema VOLVO\n10/9 med tema VW\n\nServering finns med korv\, hamburgare\, karré med potatissallad\, kaffe m bröd\, glass och läsk. Vi öppnar kl. 16.00 och det är fri entré. Alla med eller utan fordon är hjärtligt välkomna! \nVid ev frågor ring 073-2073515 \nBillesholmsrallyt kör vi den 1/8 2026.\nHälsningar\,  Eddy och Inga 
URL:https://amazonklubben.nu/event/manadstraffar-billesholm-3/
CATEGORIES:Lokal bilträff
ATTACH;FMTTYPE=image/jpeg:https://amazonklubben.nu/wp-content/uploads/2026/01/f053d1d437-Flygbild-Folkets-Park-foto-till-hemsidan-750x410-620x330-1.jpg
END:VEVENT
BEGIN:VEVENT
DTSTART;TZID=UTC:20260510T090000
DTEND;TZID=UTC:20260510T170000
DTSTAMP:20260422T125741
CREATED:20260225T172553Z
LAST-MODIFIED:20260225T172553Z
UID:10000154-1778403600-1778432400@amazonklubben.nu
SUMMARY:Svenska Volvo Amazonklubbens Kickoff & Vårputs
DESCRIPTION:Välkommen på Kickoff & Vårputs med Svenska Volvo Amazonklubben.\nSamling på parkeringen vid Kaknästornet.Senare en Cruising: Djurgården -> Strandvägen -> Skeppsholmen.\n\nKarta:
URL:https://amazonklubben.nu/event/svenska-volvo-amazonklubbens-kickoff-varputs/
CATEGORIES:Amazonträff
ATTACH;FMTTYPE=image/png:https://amazonklubben.nu/wp-content/uploads/2026/02/kakenas.png
END:VEVENT
BEGIN:VEVENT
DTSTART;VALUE=DATE:20260514
DTEND;VALUE=DATE:20260515
DTSTAMP:20260422T125741
CREATED:20260112T134700Z
LAST-MODIFIED:20260116T190818Z
UID:10000003-1778716800-1778803199@amazonklubben.nu
SUMMARY:Gökotteträffen 2026
DESCRIPTION:Gökotteträff\nPå Kristihimmelsfärdsdagen torsdagen den 14 maj träffas vi på Bil-Månsson i Eslövs parkeringsplats med adress Vikhemsvägen 2 för en träff för oss morgonpigga. \n\n                            \n                            Vi träffas klockan 6:00 och vid 6:30 kör vi gemensamt i maklig takt och äter vår medhavda frukost på lämplig trevlig plats för oss och våra bilar. \nVi kör vidare gemensamt på småvägar till vårt slutmål. \nTräffen avslutas med att vi runt klockan 10 kommer fram gemensamt till Hemvärnsgården i Kyrkheddinge där vi besöker Motorhistoriska klubben i Skånes Gröna träffen 2026. Skulle denna träff vara inställd kommer vi att ha vår avslutning på plats i närheten. \nRäknar med att rundan blir 5 till 7 mil lång. \nDärefter är det fritt för alla att göra vad de själva vill. \nDenna träff innehåller inga tävlingsmoment eller kostnader. \nAnmälan behövs ej. \nVäl mött den 14 maj! \nHälsningar:  \nOla Olsson Modig \nolaolssonmodig@gmail.com \n046-25 25 43 \n\n                            \n                        \nKarta:
URL:https://amazonklubben.nu/event/gokottetraffen-2026/
CATEGORIES:Lokal bilträff
ATTACH;FMTTYPE=image/png:https://amazonklubben.nu/wp-content/uploads/2025/04/gokottetraffen.png
END:VEVENT
BEGIN:VEVENT
DTSTART;VALUE=DATE:20260523
DTEND;VALUE=DATE:20260524
DTSTAMP:20260422T125741
CREATED:20260116T193301Z
LAST-MODIFIED:20260116T193301Z
UID:10000021-1779494400-1779580799@amazonklubben.nu
SUMMARY:Svenljunga Super Motor Weekend
DESCRIPTION:Info och program kommer….
URL:https://amazonklubben.nu/event/svenljunga-super-motor-weekend/
CATEGORIES:Lokal bilträff
END:VEVENT
BEGIN:VEVENT
DTSTART;TZID=UTC:20260524T100000
DTEND;TZID=UTC:20260524T140000
DTSTAMP:20260422T125741
CREATED:20260112T124417Z
LAST-MODIFIED:20260116T185857Z
UID:10000002-1779616800-1779631200@amazonklubben.nu
SUMMARY:Volvo och Saab träff på Hofsnäs
DESCRIPTION:Hofsnäs Herrgård ligger i Länghem Tranemo kommun. \n\n                            \n                            Program kommer\n                            \n                        \nKarta:
URL:https://amazonklubben.nu/event/volvo-och-saab-traff-pa-hofsnas/
CATEGORIES:Lokal bilträff
ATTACH;FMTTYPE=image/png:https://amazonklubben.nu/wp-content/uploads/2025/04/hofsnas-2.png
END:VEVENT
BEGIN:VEVENT
DTSTART;TZID=UTC:20260526T183000
DTEND;TZID=UTC:20260526T210000
DTSTAMP:20260422T125741
CREATED:20260130T123433Z
LAST-MODIFIED:20260130T202129Z
UID:10000077-1779820200-1779829200@amazonklubben.nu
SUMMARY:Månadsträff i Malmö under 2026
DESCRIPTION:Svenska Volvo 140-klubben\, Svenska Volvo Amazonklubben och Svenska Volvo PV-klubben inbjuder till tisdagsträffar i Malmö.\nMånadsträffar\, MalmöVi träffas sista tisdagen i varje månad från april till och med september.\nDrottningtorget gäller följande datum: 28/4\, 26/5\, 30/6\, 28/7\, 25/8 och slutligen 29/9. \nSamling: 18.30.\nProgram:\nEn specialare gäller tisdagen den 25/5! Vi grillar korv i Torup! Samling på Drottningtorget\, sen kör vi gemensamt till Torup. Hinner du inte till Drottningtorget\, kom direkt till Torup. Medtag korv och bröd för grillning. \nTisdagen den 30 juni träffas vi klockan 18:30 på Reservdelshuset i Hörby\, adress Filaregatan 16 i Hörby. De som vill köra gemensamt dit söderifrån samlas vi på Lund Södra Trafikplats parkeringsplats klockan 17:45 för gemensam avfärd klockan 18:00. De erbjuder oss fina rabatter\, bjuder på korv med bröd och att de kan fixa fram det mesta till gammelbilen. Observera\, ingen samling på Drottningtorget denna tisdag. \nFrågor ring Claes Strand 0737 -707 583\nSom avslutning på säsongen 2024:Vi samlas på Drottningtorget som vanligt den 29/9\, men sedan kör vi gemensamt till en klubbmedlems garage för att grilla korv. Medtag korv och bröd för grillning. Grillar och dryck är på plats! \nFint väder kan man alltid önska sig som en liten bonus. \nVill ni sedan göra någon mer aktivitet under de resterande gångerna är vi öppna för idéer.\nTag nu tillfället i akt i år att komma hit och lära känna medlemmarna i din egen hemtrakt.\nPå Drottningtorget träffas vi och umgås under enkla former\, och pratar bort ett par timmar\, tills mörkret faller över staden. Vi brukar ha väldigt trevligt under kvällen och även under förra året hade vi många besökare.\nVi som arrangerar detta ser gärna att just du som aldrig tidigare varit på dessa månadsträffar kommer hit just i år. Det är viktigare att du kommer än din bil. \nPå Facebooksidan Volvo Veteranerna Skåne annonserar vi om vi gör något speciellt under träffarna som avviker från denna inbjudan. \nHälsningar: Ola Olsson Modig Tel: 046-25 25 43\, kassor@140-klubben.org\nRune Skott: 0736-906 398 Rune.skott@hotmail.com\nPeter Brobeck Tel 0723-764800\, peter@brobeckvindata.se
URL:https://amazonklubben.nu/event/manadstraff-i-malmo-under-2026/2026-05-26/
CATEGORIES:Lokal bilträff
ATTACH;FMTTYPE=image/png:https://amazonklubben.nu/wp-content/uploads/2026/01/malmo.png
END:VEVENT
END:VCALENDAR